BEGIN:VCALENDAR
VERSION:2.0
PRODID:-//wp-events-plugin.com//7.2.3.1//EN
TZID:Europe/Helsinki
X-WR-TIMEZONE:Europe/Helsinki
BEGIN:VEVENT
UID:287@inflames.utu.fi
DTSTART;TZID=Europe/Helsinki:20231026T120000
DTEND;TZID=Europe/Helsinki:20231026T130000
DTSTAMP:20231005T111754Z
URL:https://inflames.utu.fi/events/frontiers-of-science-prof-alpha-yap-2/
SUMMARY:Frontiers of Science: Prof. Alpha Yap
DESCRIPTION:October 26th at 12:00\nOn-site event\nPresidentti auditorium\nA
 utumn 2023 program\n\nProf. Alpha Yap\, University of Queensland\, Austral
 ia\nMechanical communication and epithelial homeostasis\nHost: Guillaume J
 acquemet (guillaume.jacquemet@abo.fi)\n\nCoffee and sandwich served at 11:
 45\, first come first served!\n\n&nbsp\;\n\nSix students and early-career 
 postdocs are welcome to have a lunch in restaurant Mauno and discuss with 
 Prof. Yap after the seminar. This is a great possibility to learn hosting 
 skills in friendly environment and create connections for future. Every st
 udent is welcome to join\, in spite of which research group they belong to
 . BioCity Turku will offer the lunch.\n\nIf you got interested\, please se
 nd an email to biocityturku@bioscience.fi\n\n&nbsp\;\n\nProfessor Yap’s 
 group seek to understand the cellular basis of cadherin recognition\, and 
 how this controls cell movement and organisation. They study the molecular
  and cellular mechanisms by which cadherin cell adhesion molecules mediate
  cell-cell recognition and their current work builds on two recent discove
 ries made by the lab. Firstly\, we found that E-cadherin\, the principal c
 adherin molecule found in epithelial tissues\, functions as an adhesion-ac
 tivated cell signaling receptor. In particular\, upon adhesion E-cadherin 
 activates signaling via the small GTPase\, Rac\, and the lipid kinase PI3-
 kinase. Finally\, an important potential target of this signaling receptor
  is the Arp2/3 protein complex\, a protein machine that nucleates assembly
  of actin filaments. We were the first to discover that E-cadherin interac
 ts with the Arp2/3 complex to mark sites for actin assembly within cells. 
 We are now exploring the general hypothesis that cadherin-activated signal
 ing controls the subcellular localization and activity of Arp2/3 to modula
 te cell shape changes and motility in response to productive cell-cell rec
 ognition.\n\n&nbsp\;\n\nSelected publications\n\nBonfim-Melo\, Alexis\, No
 ordstra\, Ivar\, Gupta\, Shafali\, Chan\, Amy H.\, Jones\, Mathew J.K.\, S
 chroder\, Kate and Yap\, Alpha S. (2022). Rapid lamellipodial responses by
  neighbor cells drive epithelial sealing in response to pyroptotic cell de
 ath. Cell Reports\, 38 (5) 110316\, 110316. doi: 10.1016/j.celrep.2022.110
 316\n\nKatsuno-Kambe\, Hiroko\, Teo\, Jessica L.\, Ju\, Robert J.\, Hudson
 \, James\, Stehbens\, Samantha J. and Yap\, Alpha S. (2021). Collagen pola
 rization promotes epithelial elongation by stimulating locoregional cell p
 roliferation. eLife\, 10 e67915. doi: 10.7554/elife.67915\n\nTeo\, Jessica
  L.\, Gomez\, Guillermo A.\, Weeratunga\, … \, Kerrie-Ann\, Lee\, Yoke S
 eng\, Ju\, Robert J.\, Stebhens\, Samantha J.\, Ladoux\, Benoit\, Mitchell
 \, Christina A.\, Collins\, Brett M.\, Parton\, Robert G. and Yap\, Alpha 
 S. (2020). Caveolae control contractile tension for epithelia to eliminate
  tumor cells. Developmental Cell\, 54 (1)\, 75-91.e7. doi: 10.1016/j.devce
 l.2020.05.002\n\n&nbsp\;\n\nGeneral information\n\n 	You can download and 
 save all the autumn 2023 FoS-seminars to your calendar from here: https://
 seafile.utu.fi/d/44a70f80ac1e46a9ad0a/\n 	Registration is not needed\, par
 ticipation list is circulated in the audience\n 	If you are a student and 
 later wish to get a certificate of attendance from the Frontier of Science
  seminars\, print out the seminar diary and after the seminar ask the BioC
 ity coordinator to sign it https://seafile.utu.fi/d/44a70f80ac1e46a9ad0a/\
 n 	Please note that any audio or video recording of the seminars is strict
 ly forbidden.\n\n&nbsp\;
ATTACH;FMTTYPE=image/jpeg:https://inflames.utu.fi/wp-content/uploads/fos20
 23autumn_400px-nelio-1.jpg
CATEGORIES:Events in English,Tapahtumat
END:VEVENT
BEGIN:VTIMEZONE
TZID:Europe/Helsinki
X-LIC-LOCATION:Europe/Helsinki
BEGIN:DAYLIGHT
DTSTART:20230326T040000
TZOFFSETFROM:+0200
TZOFFSETTO:+0300
TZNAME:EEST
END:DAYLIGHT
END:VTIMEZONE
END:VCALENDAR