BEGIN:VCALENDAR
VERSION:2.0
PRODID:-//wp-events-plugin.com//7.2.3.1//EN
TZID:Europe/Helsinki
X-WR-TIMEZONE:Europe/Helsinki
BEGIN:VEVENT
UID:172@inflames.utu.fi
DTSTART;TZID=Europe/Helsinki:20221110T120000
DTEND;TZID=Europe/Helsinki:20221110T130000
DTSTAMP:20230120T083412Z
URL:https://inflames.utu.fi/events/frontiers-of-science-fos-prof-christian
 -wolfrum/
SUMMARY:Frontiers of Science (FoS): Prof. Christian Wolfrum
DESCRIPTION:\n\nNovember 10th at 12:00\non-site event\nPresidentti auditori
 um\, BioCity\nAutumn 2022 poster\n\nProf. Christian Wolfrum\, ETH Zürich\
 , Switzerland\nAdipocyte plasticity and its impact on metabolism\nHost: Ki
 rsi Virtanen (kianvi@utu.fi)\n\nCoffee and sandwich served at 11:45\n\n&nb
 sp\;\n\nSix students and early-career postdocs are welcome to have a lunch
  and discuss with Prof. Wolfrum after the seminar. This is a great possibi
 lity to learn hosting skills in friendly environment and create connection
 s for future. Every student are welcome to join\, in spite of which resear
 ch group they belong to. BioCity Turku will offer the lunch.\n\nIf you got
  interested please send an email to biocityturku@bioscience.fi\n\n&nbsp\;\
 n\nProfessor Christian Wolfrum is the Head of the Laboratory of Translatio
 nal Nutrition Biology at ETH Zürich. His research focuses on mechanisms r
 egulating white and brown adipose tissue plasticity and function and the r
 ole of the adipose organ in the maintenance of metabolic control in obesit
 y and type 2 diabetes. Obesity is a constantly increasing\, health-threate
 ning problem and even though it is commonly presented as a simple imbalanc
 e of energy intake and expenditure\, the molecular defects in adipose tiss
 ue are still weakly recognized. Prof. Wolfrum is one of the pioneers shedd
 ing light to these unknowns and he is one of the best scientists to clarif
 y the topic for the wide audience of obesity research these days.\n\n&nbsp
 \;\n\nSelected publications\n\nScheele C\, Wolfrum C. Functional diversity
  of human adipose tissue revealed by spatial mapping. Nat Rev Endocrinol. 
 2021 Dec\;17(12):713-714.\ndoi: 10.1038/s41574-021-00582-2. PMID: 34667281
 \n\nMoser C\, et al. …Wolfrum C. Quantification of adipocyte numbers in 
 transgenic mice via the Cre-LoxP recombination sites. STAR Protoc. 2021 Au
 g 18\;2(3):100761.\ndoi: 10.1016/j.xpro.2021.100761.\n\nLi M\, …Wolfrum 
 C\, et al. Brown adipose tissue is the key depot for glucose clearance in 
 microbiota depleted mice. Nat Commun. 2021 Aug 5\;12(1):4725.\ndoi: 10.103
 8/s41467-021-24659-8\n\nBalaz M\, Wolfrum C. GPR3 sets brown fat on fire. 
 Cell Metab. 2021 Jul 6\;33(7):1271-1273.\ndoi: 10.1016/j.cmet.2021.06.003\
 n\nSun W\, et al. …Wolfrum C. Plasticity and heterogeneity of thermogeni
 c adipose tissue. Nat Metab. 2021 Jun\;3(6):751-761.\ndoi: 10.1038/s42255-
 021-00417-4.\n\nLaurila S\, …..Wolfrum C\, …..Virtanen KA\, …..\, Nu
 utila P. Secretin activates brown fat and induces satiation. Nat Metab. 20
 21 Jun\;3(6):798-809.\ndoi: 10.1038/s42255-021-00409-4.\n\nBorsa M\, …..
 Wolfrum C\, et al. Asymmetric cell division shapes naive and virtual memor
 y T-cell immunity during ageing. Nat Commun. 2021 May 11\;12(1):2715.\ndoi
 : 10.1038/s41467-021-22954-y. PMID: 33976157\n\n&nbsp\;\n\nGeneral informa
 tion\n\n 	You can download all autumn 2022 FoS-seminars as .ics in your ca
 lendar from here: https://seafile.utu.fi/d/db29925e6f0e4becb755/\n 	Regist
 ration is not needed for on-site seminars\n 	Participation list is circula
 ted in the audience\n 	If you are a student and later wish to get a certif
 icate of attendance from the Frontier of Science seminars\, please print o
 ut this seminar diary and after the seminar ask the BioCity coordinator to
  sign it\n 	Please note that any audio or video recording of the seminars 
 is strictly forbidden.\n\n&nbsp\;\n\n&nbsp\;\n\n&nbsp\;
ATTACH;FMTTYPE=image/jpeg:https://inflames.utu.fi/wp-content/uploads/2022/
 09/c_wolfrum-400px.jpg
END:VEVENT
BEGIN:VTIMEZONE
TZID:Europe/Helsinki
X-LIC-LOCATION:Europe/Helsinki
BEGIN:STANDARD
DTSTART:20221030T030000
TZOFFSETFROM:+0300
TZOFFSETTO:+0200
TZNAME:EET
END:STANDARD
END:VTIMEZONE
END:VCALENDAR