BEGIN:VCALENDAR
VERSION:2.0
PRODID:-//wp-events-plugin.com//7.2.3.1//EN
TZID:Europe/Helsinki
X-WR-TIMEZONE:Europe/Helsinki
BEGIN:VEVENT
UID:24@inflames.utu.fi
DTSTART;TZID=Europe/Helsinki:20210422T120000
DTEND;TZID=Europe/Helsinki:20210422T130000
DTSTAMP:20230120T083147Z
URL:https://inflames.utu.fi/events/frontiers-of-science-climate-air-qualit
 y-and-covid/
SUMMARY:Frontiers of Science: Climate\, air quality and COVID
DESCRIPTION:  
ATTACH;FMTTYPE=image/jpeg:https://inflames.utu.fi/wp-content/uploads/2021/
 02/kulmala-logot-2.jpg
END:VEVENT
BEGIN:VTIMEZONE
TZID:Europe/Helsinki
X-LIC-LOCATION:Europe/Helsinki
BEGIN:DAYLIGHT
DTSTART:20210328T040000
TZOFFSETFROM:+0200
TZOFFSETTO:+0300
TZNAME:EEST
END:DAYLIGHT
END:VTIMEZONE
END:VCALENDAR