BEGIN:VCALENDAR
VERSION:2.0
PRODID:-//wp-events-plugin.com//7.2.3.1//EN
TZID:Europe/Helsinki
X-WR-TIMEZONE:Europe/Helsinki
BEGIN:VEVENT
UID:377@inflames.utu.fi
DTSTART;TZID=Europe/Helsinki:20241128T121500
DTEND;TZID=Europe/Helsinki:20241128T160000
DTSTAMP:20241018T093229Z
URL:https://inflames.utu.fi/events/find-partners-for-horizon-europe-health
 -calls/
SUMMARY:Find partners for Horizon Europe Health calls
DESCRIPTION:Join us on November 28\, for a dynamic event dedicated to netwo
 rking\, collaboration\, and project development around the Horizon Europe 
 Health calls.\n \n\nThis event brings together researchers from diverse d
 isciplines and provides a platform for companies and other stakeholders in
 terested in health-related topics. The event aims to foster collaboration 
 and support the formation of consortia for Horizon Europe or other funding
  proposals\, and is organised by the TRUEnet (Turku Region Universities EU
  Network) and Health Campus Turku.\n\nWe'll begin the afternoon with inspi
 ring keynote speeches\, offering insights from both academic and industry 
 perspectives. Afterward\, engaging group discussions will take place\, and
  participants are warmly invited to stay for networking and refreshments u
 ntil 17:00. There is place for 50 participants\, first come first serve. D
 on't miss this opportunity to connect\, share ideas\, and spark new partne
 rships!\n\nSecure your spot and register at latest 22 November 2024:\nhttp
 s://link.webropolsurveys.com/S/2BD99560A4906E79\n\n&nbsp\;\nDate and place
 \nThursday 28 November 2024 at 12:15-16:00\nin Workshop auditorium\, Visit
 or and Innovation Centre Joki 3rd floor\nLemminkäisenkatu 12b\, 20520 Tur
 ku\n\n&nbsp\;\nProgramme\n12:15 Welcome and opening remarks\nPaulina Salmi
 nen\, Professor of Surgery\, University of Turku\n\n12:35 Horizon Europe H
 ealth Work Program Overview &amp\; Upcoming Calls\nSampo Sammalisto\, Nati
 onal Contact Point\, Business Finland\n\n13:00 Revvity Innovative Solution
 s for Women's Health &amp\; Revvity's collaboration with researchers\nLott
 a Siutla\, Prenatal Segment Leader\, Revvity\n\n13:20 Coffee break\n\n13:4
 0 Pitch session\nParticipants can present their expertise\, collaboration 
 interests and  project ideas\n\n14:30 Networking and group discussions\nC
 ollaborative discussions on project proposals and partnerships\n\n15:45 Cl
 osing Remarks\nEva Juslin\, Dean\, Faculty of Health and Welfare\, Novia U
 niversity of Applied Sciences\n\n16:00 Refreshments and networking\n\n17:0
 0 End of the event\n\n&nbsp\;\n\nFor further information please contact:\n
 \n 	Suvi Hentilä (hentila@utu.fi)\n 	Kati Kemppainen (kemppainen@abo.fi)\
 n 	Anita Narbro (narbro@turkuamk.fi)\n 	Johanna Leinonen (leinonen@novia.f
 i)\n\n&nbsp\;\n\nTake a look at the final program from here\, click!\n\n&n
 bsp\;\nWelcome everyone!
ATTACH;FMTTYPE=image/jpeg:https://inflames.utu.fi/wp-content/uploads/HE-He
 alth-Thumbnail-400px.jpg
CATEGORIES:Events in English,Tapahtumat
END:VEVENT
BEGIN:VTIMEZONE
TZID:Europe/Helsinki
X-LIC-LOCATION:Europe/Helsinki
BEGIN:STANDARD
DTSTART:20241027T030000
TZOFFSETFROM:+0300
TZOFFSETTO:+0200
TZNAME:EET
END:STANDARD
END:VTIMEZONE
END:VCALENDAR