BEGIN:VCALENDAR
VERSION:2.0
PRODID:-//wp-events-plugin.com//7.2.3.1//EN
TZID:Europe/Helsinki
X-WR-TIMEZONE:Europe/Helsinki
BEGIN:VEVENT
UID:356@inflames.utu.fi
DTSTART;TZID=Europe/Helsinki;VALUE=DATE:20240916
DTEND;TZID=Europe/Helsinki;VALUE=DATE:20240921
DTSTAMP:20240813T091007Z
URL:https://inflames.utu.fi/events/european-conference-on-computational-bi
 ology/
SUMMARY:European Conference on Computational Biology
DESCRIPTION:https://eccb2024.fi/conference-programme
ATTACH;FMTTYPE=image/jpeg:https://inflames.utu.fi/wp-content/uploads/ECCB.
 png
CATEGORIES:Events in English,Tapahtumat
END:VEVENT
BEGIN:VTIMEZONE
TZID:Europe/Helsinki
X-LIC-LOCATION:Europe/Helsinki
BEGIN:DAYLIGHT
DTSTART:20240331T040000
TZOFFSETFROM:+0200
TZOFFSETTO:+0300
TZNAME:EEST
END:DAYLIGHT
END:VTIMEZONE
END:VCALENDAR