BEGIN:VCALENDAR
VERSION:2.0
PRODID:-//wp-events-plugin.com//7.2.3.1//EN
TZID:Europe/Helsinki
X-WR-TIMEZONE:Europe/Helsinki
BEGIN:VEVENT
UID:81@inflames.utu.fi
DTSTART;TZID=Europe/Helsinki:20210429T090000
DTEND;TZID=Europe/Helsinki:20210429T120000
DTSTAMP:20230120T083147Z
URL:https://inflames.utu.fi/events/day-of-immunology-iuis-efis-webinar-imm
 unology-in-the-time-of-covid-19-achievements-challenges-and-opportunities/
SUMMARY:Day of Immunology - IUIS-EFIS Webinar. Immunology in the time of CO
 VID-19: achievements\, challenges and opportunities
DESCRIPTION:Join IUIS President Faith Osier and EFIS President Andreas Radb
 ruch in celebrating the Day of Immunology 2021 as they host this live webi
 nar on April 29 (3-6 p.m. CET).\n\nFeaturing talks by Özlem Türeci\, Dav
 ide Corti\, Shane Crotty\, Laurence Zitvogel\, and a special opening messa
 ge from Anthony Fauci\, a panel discussion among internationally acclaim
 ed experts in immunology\, virology\, vaccinology and public health\, mode
 rated by editors from European Journal of Immunology\, Nature Medicine\, S
 cience and Bhekisisa\, will round off the event.\n\nFull schedule of the e
 vent
END:VEVENT
BEGIN:VTIMEZONE
TZID:Europe/Helsinki
X-LIC-LOCATION:Europe/Helsinki
BEGIN:DAYLIGHT
DTSTART:20210328T040000
TZOFFSETFROM:+0200
TZOFFSETTO:+0300
TZNAME:EEST
END:DAYLIGHT
END:VTIMEZONE
END:VCALENDAR