BEGIN:VCALENDAR
VERSION:2.0
PRODID:-//wp-events-plugin.com//7.2.3.1//EN
TZID:Europe/Helsinki
X-WR-TIMEZONE:Europe/Helsinki
BEGIN:VEVENT
UID:412@inflames.utu.fi
DTSTART;TZID=Europe/Helsinki:20250521T100000
DTEND;TZID=Europe/Helsinki:20250521T110000
DTSTAMP:20250514T140422Z
URL:https://inflames.utu.fi/events/career-seminar-m-bishr-omary/
SUMMARY:Career seminar: M. Bishr Omary
DESCRIPTION:Title: Tips for Advancing Trainee and Faculty Career Developmen
 t\nSpeaker: Prof. M. Bishr Omary (Rutgers University\, USA)\nWhen: May 21\
 , 10:00-11.00\nWhere: Auditorium Biokemi\, BioCity 3rd floor\n\nSnacks wil
 l be served on-site.\n\nYou are warmly welcome to join us for an inspiring
  career seminar with Prof. Bishr Omary. Dr. Omary has a highly successful 
 academic career as a Professor at Stanford University\, University of Mich
 igan\, and currently as Professor in Biomedical Science at Rutgers Univers
 ity in USA\, where he also acts as Senior Vice Chancellor for Academic Aff
 airs and Research. He has served as Editor-in-Chief of the prestigious jou
 rnal Gastroenterology as well as president of the American Gastroenterolog
 ical Association.\n\nDr. Omary’s training is from chemistry\, cell biolo
 gy and medicine. He has mentored numerous international students and fello
 ws\, and he has a broad perspective on how institutions and academic leade
 rs can support and promote both career and personal development. His stron
 g engagement for advancing early careers is also evident as he has receive
 d several prestigious mentorship awards\, and actively published on mentor
 ship\, career development\, authorship and equality in science.\n\nHost: D
 iana Toivola (ÅAU Cell biology\, BioCity Turku CellCom Research Program\,
  InFLAMES Flagshp\; diana.toivola@abo.fi). Please contact Diana if you wou
 ld like to discuss with Prof. Omary.
ATTACH;FMTTYPE=image/jpeg:https://inflames.utu.fi/wp-content/uploads/bishr
 -2024-march-standing-1-scaled-e1747229650111.jpg
CATEGORIES:Events in English,Tapahtumat
END:VEVENT
BEGIN:VTIMEZONE
TZID:Europe/Helsinki
X-LIC-LOCATION:Europe/Helsinki
BEGIN:DAYLIGHT
DTSTART:20250330T040000
TZOFFSETFROM:+0200
TZOFFSETTO:+0300
TZNAME:EEST
END:DAYLIGHT
END:VTIMEZONE
END:VCALENDAR