BEGIN:VCALENDAR
VERSION:2.0
PRODID:-//wp-events-plugin.com//7.2.3.1//EN
TZID:Europe/Helsinki
X-WR-TIMEZONE:Europe/Helsinki
BEGIN:VEVENT
UID:75@inflames.utu.fi
DTSTART;TZID=Europe/Helsinki:20210413T150000
DTEND;TZID=Europe/Helsinki:20210413T160000
DTSTAMP:20230120T083147Z
URL:https://inflames.utu.fi/events/cancer-research-seminar-virtual-event-2
 /
SUMMARY:Cancer Research Seminar - Virtual event
DESCRIPTION:\n\nCancer Research Seminar Series – organized by Turku Cance
 r Research Society and FICAN West\n\nKarolina Louvanto \nMethylation marke
 rs in cervical cancer screening\n\nAkira Takeda \nStromal and immune cell 
 interactions in health and disease\n\nZoom details:\nhttps://utu.zoom.us/j
 /67279196618\nMeeting ID: 672 7919 6618\nPasscode: 878028\n\n
END:VEVENT
BEGIN:VTIMEZONE
TZID:Europe/Helsinki
X-LIC-LOCATION:Europe/Helsinki
BEGIN:DAYLIGHT
DTSTART:20210328T040000
TZOFFSETFROM:+0200
TZOFFSETTO:+0300
TZNAME:EEST
END:DAYLIGHT
END:VTIMEZONE
END:VCALENDAR