BEGIN:VCALENDAR
VERSION:2.0
PRODID:-//wp-events-plugin.com//7.2.3.1//EN
TZID:Europe/Helsinki
X-WR-TIMEZONE:Europe/Helsinki
BEGIN:VEVENT
UID:184@inflames.utu.fi
DTSTART;TZID=Europe/Helsinki:20220913T150000
DTEND;TZID=Europe/Helsinki:20220913T163000
DTSTAMP:20230120T083320Z
URL:https://inflames.utu.fi/events/cancer-research-seminar-translation-of-
 basic-science-findings-to-clinical-use-by-professor-jukka-westermarck/
SUMMARY:Cancer Research Seminar: “Translation of basic science findings t
 o clinical use” by Professor Jukka Westermarck
DESCRIPTION:\n 	Medisiina D\, Säätiö-Sali\, Kiinamyllynkatu 10\n 	13.9.2
 022 at 15.00–16.30\n\n“Translation of basic science findings to clinic
 al use – Lessons from the sabbatical time in Milan” by Professor Jukka
  Westermarck\, and discussion about the need and applications in Turku.\n\
 n 	On-line participation link: https://utu.zoom.us/j/65087190064\n 	Passc
 ode: 020919\, Meeting ID: 650 8719 0064\n 	Organiser: Turku Cancer Researc
 h Society and FICAN West\n 	Language: English\n
ATTACH;FMTTYPE=image/jpeg:https://inflames.utu.fi/wp-content/uploads/2022/
 09/Health_campus_Turku_logo.png
END:VEVENT
BEGIN:VTIMEZONE
TZID:Europe/Helsinki
X-LIC-LOCATION:Europe/Helsinki
BEGIN:DAYLIGHT
DTSTART:20220327T040000
TZOFFSETFROM:+0200
TZOFFSETTO:+0300
TZNAME:EEST
END:DAYLIGHT
END:VTIMEZONE
END:VCALENDAR