BEGIN:VCALENDAR
VERSION:2.0
PRODID:-//wp-events-plugin.com//7.2.3.1//EN
TZID:Europe/Helsinki
X-WR-TIMEZONE:Europe/Helsinki
BEGIN:VEVENT
UID:159@inflames.utu.fi
DTSTART;TZID=Europe/Helsinki;VALUE=DATE:20220824
DTEND;TZID=Europe/Helsinki;VALUE=DATE:20220825
DTSTAMP:20230120T083320Z
URL:https://inflames.utu.fi/events/biocity-student-symposium-students-are-
 the-solution/
SUMMARY:BioCity Student Symposium – STUDENTS ARE THE SOLUTION
DESCRIPTION:This year BioCity Turku PhD students will arrange their own eve
 nt\nBioCity Student Symposium\nWednesday 24 August\, 2022\nThe day will in
 clude motivational talks\, pitching and scientific presentations.\nAll inf
 o regarding the event will be available in the web page:\nhttps://biocityt
 urku.fi/student-symposium/\n\nStay tuned and follow BioCity Turku newsfeed
  in Twitter @BioCityTurku\n\n\n\n\nAug 24\, 2022 09:00
ATTACH;FMTTYPE=image/jpeg:https://inflames.utu.fi/wp-content/uploads/2022/
 06/BCSS2022_nelio_400.jpg
END:VEVENT
BEGIN:VTIMEZONE
TZID:Europe/Helsinki
X-LIC-LOCATION:Europe/Helsinki
BEGIN:DAYLIGHT
DTSTART:20220327T040000
TZOFFSETFROM:+0200
TZOFFSETTO:+0300
TZNAME:EEST
END:DAYLIGHT
END:VTIMEZONE
END:VCALENDAR