BEGIN:VCALENDAR
VERSION:2.0
PRODID:-//wp-events-plugin.com//7.2.3.1//EN
TZID:Europe/Helsinki
X-WR-TIMEZONE:Europe/Helsinki
BEGIN:VEVENT
UID:264@inflames.utu.fi
DTSTART;TZID=Europe/Helsinki:20230823T130000
DTEND;TZID=Europe/Helsinki:20230823T170000
DTSTAMP:20230606T084641Z
URL:https://inflames.utu.fi/events/biocity-phd-mini-symposium/
SUMMARY:BioCity PhD Mini-Symposium
DESCRIPTION:\n\nAugust 23rd at 13:00-17:00\nOn-site event\nManu1-4 meeting 
 room\, BioCity\n\n&nbsp\;\n\nA team of Doctoral Researchers are delighted 
 to announce the BioCity PhD Mini-Symposium planned on the afternoon befo
 re the main symposium\, i.e.\, on Wednesday 23rd August\, 2023. This wil
 l be an ideal platform for BioCity Turku students\, PhD researchers and ea
 rly-career postdocs to connect\, network and exchange ideas before the mai
 n event. The student and researcher community of BioCity Turku has diverse
  scientific and technical expertise\, and the intent is to facilitate inte
 ractions in an informal way.\n\nThe event itself will have two poster sess
 ions and a few talks\, with coffee\, snacks and drinks of course\, and the
  event will take place in Manu1-4 meeting room\, in BioCity at 13:00-17:0
 0.\nStay tuned for updates and program\, they will appear soon!\nhttps://b
 iocityturku.fi/student-symposium/\nMeanwhile\, if you have any questions\,
  feel free to reach out to either one (or all) of the following organizing
  committee members:\nOmkar Joshi (omkar.joshi@utu.fi)\nLeena Koskinen (lee
 na.m.koskinen@utu.fi)\nMarie-Catherine Laisne (marie-catherine.laisne@abo.
 fi)\n\n&nbsp\;\n\n&nbsp\;\nThe following companies are present in the even
 t\n\n\n.\n\nwww.nordicbiosite.com\n\nwww.biotop.fi\n\nwww.brinter.com\n\nw
 ww.scanbur.com\n\nwww.triolab.fi\n\n.
ATTACH;FMTTYPE=image/jpeg:https://inflames.utu.fi/wp-content/uploads/stude
 nt-banner-nelio-400px.jpg
LOCATION:Manu1-4 meeting room\, BioCity 1st floor\, Turku\, Finland
X-APPLE-STRUCTURED-LOCATION;VALUE=URI;X-ADDRESS=BioCity 1st floor\, Turku\,
  Finland;X-APPLE-RADIUS=100;X-TITLE=Manu1-4 meeting room:geo:0,0
END:VEVENT
BEGIN:VTIMEZONE
TZID:Europe/Helsinki
X-LIC-LOCATION:Europe/Helsinki
BEGIN:DAYLIGHT
DTSTART:20230326T040000
TZOFFSETFROM:+0200
TZOFFSETTO:+0300
TZNAME:EEST
END:DAYLIGHT
END:VTIMEZONE
END:VCALENDAR