BEGIN:VCALENDAR
VERSION:2.0
PRODID:-//wp-events-plugin.com//7.2.3.1//EN
TZID:Europe/Helsinki
X-WR-TIMEZONE:Europe/Helsinki
BEGIN:VEVENT
UID:428@inflames.utu.fi
DTSTART;TZID=Europe/Helsinki:20251031T083000
DTEND;TZID=Europe/Helsinki:20251031T180000
DTSTAMP:20251030T075959Z
URL:https://inflames.utu.fi/events/biobridge-career-fair/
SUMMARY:BioBridge: Career Fair
DESCRIPTION:\n\nWelcome to the BioBridge: Career Fair event organized by th
 e Postdocs in Flames (PiF) and Turku Bioscience Centre PhD-PostDoc committ
 ees\, in collaboration with InFLAMES Flagship and City of Turku.\n\nThe ai
 m of the event is to introduce life science companies as potential employe
 rs to the local emerging talent pool of undergraduates\, doctoral research
 ers\, postdocs\, and anyone interested in career opportunities in life sci
 ences.\n\nDate: October 31st\, 2025. 08:30-16:00 with informal networking 
 until 18:00.\nVenue:  BioCity Building  (Tykistökatu 6\, Turku ) and Vi
 sitor and Innovation Centre Joki\, Cave Theater (Lemminkäisenkatu 12 B\, 
 Turku\, Finland). See the map of the venue below.\nRegistration by October
  23: https://konsta.utu.fi/Default.aspx?tabid=88&amp\;tap=22778 (REGISTRAT
 ION IS CLOSED!)\n\nFormat: Short company presentations organised in two se
 ssions\, exhibition stands\, lunch breakout tables with companies and info
 rmal networking.\nDue to the high number of registered participants\, the 
 seminar from the Cave lecture hall will be streamed to the Presidentti lec
 ture hall in the BioCity building.\nLive presentations: Cave Theater\, Vis
 itor and Innovation Centre Joki\, Lemminkäisenkatu 12b\, Turku\nStream: P
 resident Lecture Hall\, BioCity Building\, Tykistökatu 6\, Turku\nConfirm
 ed companies: Orion\, Roche\, Bayer\, Faron Pharmaceuticals\, Boco IP\, Un
 iogen\, Pharmatest\, Radiometer and 3PBIOVIAN!\n\nProgramme:\nDOWNLOAD PRO
 GRAMME HERE!\nLive presentations: Cave Theater\, Visitor and Innovation Ce
 ntre Joki\, Lemminkäisenkatu 12b\, Turku\nStream: President Lecture Hall\
 , BioCity Building\, Tykistökatu 6\, Turku\n\n08:00–            
      Registration starts (BioCity lobby)\n08:30–09:00      Regist
 ration\, coffee\, and sandwich (BioCity lobby)\n\n09:00–09:05       
 Opening words\, Vice Rector Tapio Salakoski\, University of Turku\n09:05
 –10:35       Session I\, Host: InFLAMES PostDoc Abris Bendes\, Åbo 
 Akademi University\nPharmatest\, R&amp\;D Director Jenni Mäki-Jouppila\nO
 rion\, Director of Digital Medicine Sammeli Liikkanen\nFaron Pharmaceutica
 ls\, Chief Medical Officer Petri Bono\nBoco IP\, European Patent Attorney 
 Nina Virolainen &amp\; Patent Agent Björn Törngren\nBayer\, Lead Advance
 d Drug Delivery Uwe Muenster – Global perspective\nBayer\, Principal Sci
 entist Vimalkumar Balasubramanian – Working at Turku sub-region\n10:35 
 – 11:55        Free-form networking\n11:00 – 11:55          1
 -to-1 discussions (pre-reserved)\, Workshop room (take stairs next to the 
 Cave to the 3rd floor)\n\n12:00 – 13:25       Participant baguette l
 unch and coffee (BioCity lobby)\nPre-registered participants: Lunch compan
 y breakouts at the Sokos Hotel Kupittaa Elli\n13:30–14:40        Ses
 sion II\, Host: Doctoral Researcher Iman Farahani\, University of Turku\nT
 he regional labour market situation\, Working life expert Timo Vahtonen\, 
 ELY Centre\nRoche\, Country Medical Director Anssi Linnankivi\nUniogen\, D
 irector - Oncology Leena Kokko\nRadiometer\, Director\, QA Maija Blomquist
 \nEURES\, Specialist Tomi Puranen\, City of Turku\n14:40 – 15:10     
    Burning questions and conclusions by hosts: Abris Bendes and Iman Fara
 hani\n\n15:10 – 18:00        Free-form networking\, finger food and 
 drinks (BioCity lobby)\n15:35 – 16:35         1-to-1 discussions (p
 re-reserved)\, Workshop room (take stairs next to the Cave to the 3rd floo
 r)\n\n18:00                     Event ends\nMap of the venue (B
 ioCity Building)\n&nbsp\;\n\n\n\n&nbsp\;\n\nThis event is supported by Bio
 City Turku\, InFLAMES Research Flagship\, ImmuDocs Doctoral Education Pilo
 t\, the City of Turku\, SYS-LIFE\,and HDDD and participating companies.\n\
 nThis is the second event in the BioBridge series. The aim of the series i
 s to bring knowledge of future possibilities for early-career scientists b
 y bridging the gap between local researchers\, funding agencies\, and the 
 life science industry. These events are open to all who are interested.
ATTACH;FMTTYPE=image/jpeg:https://inflames.utu.fi/wp-content/uploads/BioBr
 idge2-poster1_v3-scaled.jpg
CATEGORIES:Events in English,Tapahtumat
LOCATION:Cave Theatre\, Visitor and Innovation Centre Joki\, Lemminkäisenk
 atu 12 B\, Turku\, Finland
X-APPLE-STRUCTURED-LOCATION;VALUE=URI;X-ADDRESS=Lemminkäisenkatu 12 B\, Tu
 rku\, Finland;X-APPLE-RADIUS=100;X-TITLE=Cave Theatre\, Visitor and Innova
 tion Centre Joki:geo:0,0
END:VEVENT
BEGIN:VTIMEZONE
TZID:Europe/Helsinki
X-LIC-LOCATION:Europe/Helsinki
BEGIN:STANDARD
DTSTART:20251026T030000
TZOFFSETFROM:+0300
TZOFFSETTO:+0200
TZNAME:EET
END:STANDARD
END:VTIMEZONE
END:VCALENDAR