BEGIN:VCALENDAR
VERSION:2.0
PRODID:-//wp-events-plugin.com//7.2.3.1//EN
TZID:Europe/Helsinki
X-WR-TIMEZONE:Europe/Helsinki
BEGIN:VEVENT
UID:254@inflames.utu.fi
DTSTART;TZID=Europe/Helsinki:20230604T120000
DTEND;TZID=Europe/Helsinki:20230607T120000
DTSTAMP:20230317T150412Z
URL:https://inflames.utu.fi/events/49th-annual-meeting-of-the-scandinavian
 -society-of-immunology-2/
SUMMARY:49th Annual Meeting of the Scandinavian Society of Immunology
DESCRIPTION:SSI2023 –49th Annual Meeting of the Scandinavian Society of I
 mmunology\n\nTime: 4.-7.6.2023\n\nVenue: Radisson Blu Marina Palace\n\n\n\
 nThe 49th Annual Meeting and Summer School of the SSI will be held in Turk
 u\, Finland\, at the Radisson Blu Marina Palace\, June 4-7 2023. Please re
 serve the date!\n\n&nbsp\;
ATTACH;FMTTYPE=image/jpeg:https://inflames.utu.fi/wp-content/uploads/2022/
 09/2023flyer_small.jpg
CATEGORIES:Tapahtumat
END:VEVENT
BEGIN:VTIMEZONE
TZID:Europe/Helsinki
X-LIC-LOCATION:Europe/Helsinki
BEGIN:DAYLIGHT
DTSTART:20230326T040000
TZOFFSETFROM:+0200
TZOFFSETTO:+0300
TZNAME:EEST
END:DAYLIGHT
END:VTIMEZONE
END:VCALENDAR