BEGIN:VCALENDAR
VERSION:2.0
PRODID:-//wp-events-plugin.com//7.2.3.1//EN
TZID:Europe/Helsinki
X-WR-TIMEZONE:Europe/Helsinki
BEGIN:VEVENT
UID:198@inflames.utu.fi
DTSTART;TZID=Europe/Helsinki:20221111T090000
DTEND;TZID=Europe/Helsinki:20221111T100000
DTSTAMP:20230120T083412Z
URL:https://inflames.utu.fi/events/48878/
SUMMARY:Guest Lecture: Dr. Jochen Schwenk\, KTH Stockholm
DESCRIPTION:Fri 11th Nov\, 2022 at 9:00-10:00\non-site event\nArje Scheinin
  hall\, Dentalia\n\n&nbsp\;\n\n\n\n&nbsp\;\n\n&nbsp\;\n\n&nbsp\;\n\n&nbsp\
 ;\n\n&nbsp\;\n\nDr. Jochen Schwenk\, KTH Stockholm\n\n“The dynamic archi
 tecture of the circulating proteome in health and disease”\n\nDr. Jochen
  Schwenk is a professor of translational proteomics in the School of Engin
 eering Sciences in Chemistry\, Biotechnology and Health\, KTH\, Stockholm.
  He is the scientific director of the Affinity Proteomics unit at Science 
 for Life Laboratory (SciLifeLab) and his research group is associated to t
 he Human Protein Atlas project. He acts as a chairman of HUPO's Human Plas
 ma Proteome project. His research interests include e.g.\, affinity-based 
 plasma proteomics\, translational biomarker discovery\, multiplex immunoas
 say development and biostatistics.\n\nSelected recent publications:\n\n 	W
 esolowska-Andersen et al.\, "Four groups of type 2 diabetes contribute to 
 the etiological and clinical heterogeneity in newly diagnosed individuals 
 : An IMI DIRECT study\," CELL REPORTS MEDICINE\, vol. 3\, no. 1\, 2022.\n 
 	Yang et al.\, "Genetic Landscape of the ACE2 Coronavirus Receptor\," Circ
 ulation\, vol. 145\, no. 18\, s. 1398-1411\, 2022\n 	Wu et al.\, "Elevated
  circulating follistatin associates with an increased risk of type 2 diabe
 tes\," Nature Communications\, vol. 12\, no. 1\, 2021.\n 	Roxhed et al.\, 
 "Multianalyte serology in home-sampled blood enables an unbiased assessmen
 t of the immune response against SARS-CoV-2\," Nature Communications\, vol
 . 12\, no. 1\, 2021.\n 	Bar et al.\, "A reference map of potential determi
 nants for the human serum metabolome\," Nature\, vol. 588\, no. 7836\, s. 
 135-140\, 2020.\n 	Suhre\, M. I. McCarthy och J. M. Schwenk\, "Genetics me
 ets proteomics : perspectives for large population-based studies\," Nature
  reviews genetics\, 2020.\n
ATTACH;FMTTYPE=image/jpeg:https://inflames.utu.fi/wp-content/uploads/2022/
 10/Jochen_Schweck.png
END:VEVENT
BEGIN:VTIMEZONE
TZID:Europe/Helsinki
X-LIC-LOCATION:Europe/Helsinki
BEGIN:STANDARD
DTSTART:20221030T030000
TZOFFSETFROM:+0300
TZOFFSETTO:+0200
TZNAME:EET
END:STANDARD
END:VTIMEZONE
END:VCALENDAR