BEGIN:VCALENDAR
VERSION:2.0
PRODID:-//wp-events-plugin.com//7.2.3.1//EN
TZID:Europe/Helsinki
X-WR-TIMEZONE:Europe/Helsinki
BEGIN:VEVENT
UID:137@inflames.utu.fi
DTSTART;TZID=Europe/Helsinki:20220311T140000
DTEND;TZID=Europe/Helsinki:20220311T170000
DTSTAMP:20250123T121234Z
URL:https://inflames.utu.fi/events/45846/
SUMMARY:2nd InFLAMES Corporate Corner - InFLAMES Ecosystem Services
DESCRIPTION:2nd InFLAMES Corporate Corner - InFLAMES Ecosystem Services\nDa
 te: 11.3.2022\, at 14:00-17:00\nPlace: Presidentti Auritorium\, BioCity\, 
 Tykistökatu 6\, Turku /Zoom: https://utu.zoom.us/j/61111338459\n\nInFLAME
 S Research Flagship welcomes you to its 2nd Corporate Corner - InFLAMES Ec
 osystem Services. In this event we want to introduce our high-quality open
  infrastructure and its benefits to academy-industry collaboration. The go
 al of the event is to inform you about these unique collaboration opportun
 ities.\n\nWe are looking forward to meet you in person\, but due to the CO
 VID-19 situation participation is also possible remotely. All interested p
 arties are welcome.  A Link to join the online event will be sent to regi
 stered participants one day before the event.\nRegistration is open! You a
 re warmly welcome!\nPlease sign up here by March 8th (Registration is clos
 ed. Please email inflames@utu.fi if you would like to participate onsite.)
 \n\n&nbsp\;\nPROGRAMME\n\nInFLAMES Ecosystem Services - How to get access
 ?\nHost: Professor Juhani Knuuti\, Director of Turku PET Centre\, Universi
 ty of Turku\n13:45-14:00\nCoffee/Tea\n14:00-14:05\nOpening words\nProfesso
 r Juhani Knuuti\n14:05-16:30\nTurku PET Centre – Molecular Imaging servi
 ces\nProfessor Juhani Knuuti\, Turku PET Centre\, University of Turku\n\nT
 urku Bioscience – Cutting-edge technology at your service\nProfessor Rii
 tta Lahesmaa\, Turku Bioscience Centre\, University of Turku\n\nCentre for
  Population Health Research – How to use population cohorts?\nProfessor 
 Linnea Karlsson\, Centre for Population Health Research\n\nCase study: Pre
 diction and prevention of type 1 diabetes by DIPP study\nProfessor Jorma T
 oppari\, Institute of Biomedicine\, University of Turku\n\nClinical cancer
  research – Areas\, possibilities and collaboration\nProfessor Panu Jaak
 kola\, Western Cancer Center\n\nTurku Center of Disease Modelling – Focu
 s in advanced animal models\nProfessor Matti Poutanen\, Institute of Biome
 dicine\, University of Turku\n\nEducation – Come and learn with us!\nDir
 ector of UTU Graduate School Pirjo Nuutila\,  Director of InFLAMES Doctor
 al Module Kati Elima\nand Professor Ullamari Pesonen\, Institute of Biomed
 icine\, Director of DRDP Doctoral programme\n\nClosing words\nProfessor of
  Practice Timo Veromaa\, University of Turku\n16:30-17:30\nNetworking sess
 ion with wine and food.\n\n&nbsp\;\n\nRecording of the event will also be 
 available afterwards.\nYou are warmly welcome!
CATEGORIES:Corporate Corner
END:VEVENT
BEGIN:VTIMEZONE
TZID:Europe/Helsinki
X-LIC-LOCATION:Europe/Helsinki
BEGIN:STANDARD
DTSTART:20211031T030000
TZOFFSETFROM:+0300
TZOFFSETTO:+0200
TZNAME:EET
END:STANDARD
END:VTIMEZONE
END:VCALENDAR