BEGIN:VCALENDAR
VERSION:2.0
PRODID:-//wp-events-plugin.com//7.2.3.1//EN
TZID:Europe/Helsinki
X-WR-TIMEZONE:Europe/Helsinki
BEGIN:VEVENT
UID:378@inflames.utu.fi
DTSTART;TZID=Europe/Helsinki:20250828T083000
DTEND;TZID=Europe/Helsinki:20250829T170000
DTSTAMP:20250813T073230Z
URL:https://inflames.utu.fi/events/34th-biocity-symposium-transforming-dru
 g-development-for-tomorrow/
SUMMARY:34th BioCity Symposium: Transforming drug development for tomorrow
DESCRIPTION:28th-29th August 2025\nOn-site event\nin Mauno Koivisto Centre\
 , BioCity\, Turku\, Finland\nPoster\nProgram\n\nThe 34th BioCity Symposiu
 m focuses on drug development across a range of disease groups and on vari
 ous drug modalities. Despite of significant breakthroughs in medicine\, t
 here are still numerous conditions for which there are no curative treatme
 nts\, or even therapies that would effectively slow down the disease progr
 ession. Therefore\, novel drug targets need to be identified and new drugs
  need to be discovered to target the disease-driving mechanisms. In this s
 ymposium\, we will focus on academic drug discovery and on mechanisms how
  the promising new compounds identified in  academic setting can be conve
 rted to commercially viable industrial drug development programs. The symp
 osium will also cover exciting new approaches to select the most suitable 
 patient populations for the emerging therapies.\n\nRegistration to the Bio
 City Symposium is open until Friday 15 August 2025\, 23:59 (CET+1)\n\nPle
 ase take a look at the registration details: https://biocityturku.fi/bioci
 ty-symposium/registration/\n\n&nbsp\;\nInvited speakers\nPetri Bono\, Faro
 n Pharmaceuticals\, Finland\nAnniina Färkkilä\, University of Helsinki\,
  Finland\nCarmen Galan\, University of Bristol\, UK\nNathanael S. Gray\, S
 tanford University\, USA\nChristian Heinis\, École Polytechnique Fédéra
 le de Lausanne\, Switzerland\nTeemu Junttila\, Genentech\, Research Oncolo
 gy\, USA\nDavid Leppert\, GeNeuro SA\; University Hospital Basel\, Switzer
 land\nRichard Marais\, Oncodrug Ltd\, UK\nSilvia Marsoni\, IFOM\, Italy\nM
 aarit Merla\, Finnish Drug Discovery Center Ltd\, Finland\nFrancesca E. Mo
 rreale\, The Francis Crick Institute\, UK\nHélder A. Santos\, University 
 of Groningen\, The Netherlands\n\n&nbsp\;\nShort talks by\nMikko Airavaara
 \, University of Helsinki\nJelena Gnjatovic\, University of Turku\nLaura K
 auppi\, University of Turku\nSaara Koskela\, University of Turku\nKiesha R
 ice\, Misvik Biology\nPankaj Singh\, University of Turku\nParul Singh\, Un
 iversity of Turku\n\n&nbsp\;\nOrganizing Committee\nLaura Airas\nMaija Hol
 lmén\nReko Leino\nOlli Pentikäinen\nJessica Rosenholm\nJukka Westermarck
  (chair)\n\n&nbsp\;\n\n&nbsp\;\n\nMore information about the event from ht
 tps://biocityturku.fi/biocity-symposium/ \n\nIf you have any questions re
 garding the event\, please contact biocityturku@bioscience.fi  \n\n&nbsp
 \;\n\n&nbsp\;\n\nOriginal artwork by Tinni Snåre
ATTACH;FMTTYPE=image/jpeg:https://inflames.utu.fi/wp-content/uploads/BCS20
 25-thumbnail-400px.jpg
CATEGORIES:Events in English,Tapahtumat
END:VEVENT
BEGIN:VTIMEZONE
TZID:Europe/Helsinki
X-LIC-LOCATION:Europe/Helsinki
BEGIN:DAYLIGHT
DTSTART:20250330T040000
TZOFFSETFROM:+0200
TZOFFSETTO:+0300
TZNAME:EEST
END:DAYLIGHT
END:VTIMEZONE
END:VCALENDAR