BEGIN:VCALENDAR
VERSION:2.0
PRODID:-//wp-events-plugin.com//7.2.3.1//EN
TZID:Europe/Helsinki
X-WR-TIMEZONE:Europe/Helsinki
BEGIN:VEVENT
UID:160@inflames.utu.fi
DTSTART;TZID=Europe/Helsinki;VALUE=DATE:20220826
DTEND;TZID=Europe/Helsinki;VALUE=DATE:20220828
DTSTAMP:20230120T083320Z
URL:https://inflames.utu.fi/events/31st-biocity-symposium-solution-is-in-i
 mmunity/
SUMMARY:31st BioCity Symposium – SOLUTION IS IN IMMUNITY
DESCRIPTION:\n\nAll up-to-date information regarding the event from BioCity
  Turku web pages:\nhttps://biocityturku.fi/biocity-symposium/\n\nFull upda
 ted program can be found here!\nThe amazing list of speakers is\nMark Anse
 l\, University of California San Francisco\, US\nFrank Bengel\, Hannover M
 edical School\, Germany\nJeffrey Bluestone\, University of California San 
 Francisco\, US\nPetter Brodin\, Karolinska Institutet\, Sweden\nEugene But
 cher\, Stanford University\, US\nPatrick Hogan\, La Jolla Institute for Im
 munology\, US\nAnjana Rao\, La Jolla Institute for Immunology\, US\nSir Pe
 ter Ratcliffe\, Francis Crick Institute\, UK\nLawrence Steinman\, Stanford
  University\, US\nHenning Walczak\, UCL Cancer Institute\, UK\nHoward L. W
 einer\, Harvard Medical School\, US\n\nWelcome!\n&nbsp\;\n\n\n\nAug 25\, 2
 022 09:00 - Aug 26\, 2022 16:00\n\nLocation: Mauno Conferene Center\, Pres
 identti auditorium\, BioCity\, Tykistökatu 6\, Turku
ATTACH;FMTTYPE=image/jpeg:https://inflames.utu.fi/wp-content/uploads/2022/
 06/elaman-valtameri_1000.jpg
END:VEVENT
BEGIN:VTIMEZONE
TZID:Europe/Helsinki
X-LIC-LOCATION:Europe/Helsinki
BEGIN:DAYLIGHT
DTSTART:20220327T040000
TZOFFSETFROM:+0200
TZOFFSETTO:+0300
TZNAME:EEST
END:DAYLIGHT
END:VTIMEZONE
END:VCALENDAR